BEGIN:VCALENDAR
VERSION:2.0
PRODID:-//Sivananda Yoga Vietnam - ECPv6.15.20//NONSGML v1.0//EN
CALSCALE:GREGORIAN
METHOD:PUBLISH
X-WR-CALNAME:Sivananda Yoga Vietnam
X-ORIGINAL-URL:https://sivanandayogavietnam.org
X-WR-CALDESC:Events for Sivananda Yoga Vietnam
REFRESH-INTERVAL;VALUE=DURATION:PT1H
X-Robots-Tag:noindex
X-PUBLISHED-TTL:PT1H
BEGIN:VTIMEZONE
TZID:Asia/Ho_Chi_Minh
BEGIN:STANDARD
TZOFFSETFROM:+0700
TZOFFSETTO:+0700
TZNAME:+07
DTSTART:20230101T000000
END:STANDARD
END:VTIMEZONE
BEGIN:VEVENT
DTSTART;TZID=Asia/Ho_Chi_Minh:20240325T110000
DTEND;TZID=Asia/Ho_Chi_Minh:20240408T210000
DTSTAMP:20260419T205030
CREATED:20191019T041137Z
LAST-MODIFIED:20230616T065351Z
UID:10001378-1711364400-1712610000@sivanandayogavietnam.org
SUMMARY:Sadhana Intensive - Apr 2024
DESCRIPTION:Introspect deeply and discover the heart of hatha yoga practice. Sadhana Intensive is\, as the name suggests\, an in-depth and demanding programme of classical hatha yoga\, balanced by the study of classical scriptures. The Course was devised by Swami Vishnudevananda\, based on his own hatha yoga sadhana in the Himalayas. He often said that six months of this intensive practice gave him the energy to spread the teachings of yoga throughout the world for the subsequent forty years. \nFor more information of the course please click here \nHotline: (+84) 263 650 1100 \nEmail: vietnamyogaresort@sivananda.org
URL:https://sivanandayogavietnam.org/program/sadhana-intensive-apr-2024/
LOCATION:Sivananda Yoga Resort and Training Center\, K’lan Resort\, Hoa Hong Street\, Ward 4\, Da Lat\, Lam Dong\, 66115\, Viet Nam
ATTACH;FMTTYPE=image/jpeg:https://sivanandayogavietnam.org/wp-content/uploads/2018/11/Pranayama-outdoors-opt.jpg
END:VEVENT
END:VCALENDAR